Workbook

Sheet DCA-Anexo I-AB
A2: QDCC
A3: BALANÇO ANUAL (DCA)
A4: VERSÃO: v7
A5: VIGÊNCIA: 03/01/2019
A7: Ente: 4313425 - Novo Machado/RS
A8: Poder: E - Executivo
A9: Instituição: 9993 - Prefeitura Municipal de Novo Machado - RS
A10: Exercício: 2018
A11: Periodicidade: ANUAL
A12: Período: Período único (anual)
A14: Grupo: Balanço Patrimonial - Ativo e Passivo
A15: Quadro: Balanço Patrimonial
A16: Rótulo: Padrão
A17: Balanço Patrimonial | B17: Valores
B18: 31/12/2018
A19: Ativo
A20: Ativo
A21: 1.0.0.0.0.00.00 - Ativo | B21: =+'DCA-Anexo I-AB'!B22+'DCA-Anexo I-AB'!B160 -> 39259631
A22: 1.1.0.0.0.00.00 - Ativo Circulante | B22: =+'DCA-Anexo I-AB'!B23+'DCA-Anexo I-AB'!B29+'DCA-Anexo I-AB'!B71+'DCA-Anexo I-AB'!B100+'DCA-Anexo I-AB'!B109+'DCA-Anexo I-AB'!B126+'DCA-Anexo I-AB'!B143 -> 22868970
A23: 1.1.1.0.0.00.00 - Caixa e Equivalentes de Caixa | B23: =+'DCA-Anexo I-AB'!B24+'DCA-Anexo I-AB'!B27 -> 2012798
A24: 1.1.1.1.0.00.00 - Caixa e Equivalentes de Caixa em Moeda Nacional | B24: =+'DCA-Anexo I-AB'!B25+'DCA-Anexo I-AB'!B26 -> 2012798
A25: 1.1.1.1.1.00.00 - Caixa e Equivalentes de Caixa em Moeda Nacional - Consolidação | B25: 2012798
A26: 1.1.1.1.2.00.00 - Caixa e Equivalentes de Caixa em Moeda Nacional - Intra OFSS
A27: 1.1.1.2.0.00.00 - Caixa e Equivalentes de Caixa em Moeda Estrangeira | B27: =+'DCA-Anexo I-AB'!B28 -> 0
A28: 1.1.1.2.1.00.00 - Caixa e Equivalentes de Caixa em Moeda Estrangeira - Consolidação
A29: 1.1.2.0.0.00.00 - Créditos a Curto Prazo | B29: =+'DCA-Anexo I-AB'!B30+'DCA-Anexo I-AB'!B36+'DCA-Anexo I-AB'!B42+'DCA-Anexo I-AB'!B47+'DCA-Anexo I-AB'!B53+'DCA-Anexo I-AB'!B59-'DCA-Anexo I-AB'!B65 -> 668204.77
A30: 1.1.2.1.0.00.00 - Créditos Tributários a Receber | B30: =+'DCA-Anexo I-AB'!B31+'DCA-Anexo I-AB'!B32+'DCA-Anexo I-AB'!B33+'DCA-Anexo I-AB'!B34+'DCA-Anexo I-AB'!B35 -> 668204.77
A31: 1.1.2.1.1.00.00 - Créditos Tributários a Receber - Consolidação | B31: 668204.77
A32: 1.1.2.1.2.00.00 - Créditos Tributários a Receber - Intra OFSS
A33: 1.1.2.1.3.00.00 - Créditos Tributários a Receber - Inter OFSS - União
A34: 1.1.2.1.4.00.00 - Créditos Tributários a Receber - Inter OFSS – Estado
A35: 1.1.2.1.5.00.00 - Créditos Tributários a Receber - Inter OFSS - Município
A36: 1.1.2.2.0.00.00 - Clientes | B36: =+'DCA-Anexo I-AB'!B37+'DCA-Anexo I-AB'!B38+'DCA-Anexo I-AB'!B39+'DCA-Anexo I-AB'!B40+'DCA-Anexo I-AB'!B41 -> 0
A37: 1.1.2.2.1.00.00 - Clientes - Consolidação
A38: 1.1.2.2.2.00.00 - Clientes - Intra OFSS
A39: 1.1.2.2.3.00.00 - Clientes - Inter OFSS - União
A40: 1.1.2.2.4.00.00 - Clientes - Inter OFSS - Estado
A41: 1.1.2.2.5.00.00 - Clientes - Inter OFSS - Município
A42: 1.1.2.3.0.00.00 - Créditos de Transferências a Receber | B42: =+'DCA-Anexo I-AB'!B43+'DCA-Anexo I-AB'!B44+'DCA-Anexo I-AB'!B45+'DCA-Anexo I-AB'!B46 -> 0
A43: 1.1.2.3.1.00.00 - Créditos de Transferências a Receber - Consolidação
...

Sheet formulas
A1: [DCA-Anexo I-AB]
A2: 'DCA-Anexo I-AB'!B22=+'DCA-Anexo I-AB'!B23+'DCA-Anexo I-AB'!B29+'DCA-Anexo I-AB'!B71+'DCA-Anexo I-AB'!B100+'DCA-Anexo I-AB'!B109+'DCA-Anexo I-AB'!B126+'DCA-Anexo I-AB'!B143
A3: 'DCA-Anexo I-AB'!B23=+'DCA-Anexo I-AB'!B24+'DCA-Anexo I-AB'!B27
A4: 'DCA-Anexo I-AB'!B24=+'DCA-Anexo I-AB'!B25+'DCA-Anexo I-AB'!B26
A5: 'DCA-Anexo I-AB'!B27=+'DCA-Anexo I-AB'!B28
A6: 'DCA-Anexo I-AB'!B29=+'DCA-Anexo I-AB'!B30+'DCA-Anexo I-AB'!B36+'DCA-Anexo I-AB'!B42+'DCA-Anexo I-AB'!B47+'DCA-Anexo I-AB'!B53+'DCA-Anexo I-AB'!B59-'DCA-Anexo I-AB'!B65
A7: 'DCA-Anexo I-AB'!B30=+'DCA-Anexo I-AB'!B31+'DCA-Anexo I-AB'!B32+'DCA-Anexo I-AB'!B33+'DCA-Anexo I-AB'!B34+'DCA-Anexo I-AB'!B35
A8: 'DCA-Anexo I-AB'!B36=+'DCA-Anexo I-AB'!B37+'DCA-Anexo I-AB'!B38+'DCA-Anexo I-AB'!B39+'DCA-Anexo I-AB'!B40+'DCA-Anexo I-AB'!B41
A9: 'DCA-Anexo I-AB'!B42=+'DCA-Anexo I-AB'!B43+'DCA-Anexo I-AB'!B44+'DCA-Anexo I-AB'!B45+'DCA-Anexo I-AB'!B46
A10: 'DCA-Anexo I-AB'!B47=+'DCA-Anexo I-AB'!B48+'DCA-Anexo I-AB'!B49+'DCA-Anexo I-AB'!B50+'DCA-Anexo I-AB'!B51+'DCA-Anexo I-AB'!B52
A11: 'DCA-Anexo I-AB'!B53=+'DCA-Anexo I-AB'!B54+'DCA-Anexo I-AB'!B55+'DCA-Anexo I-AB'!B56+'DCA-Anexo I-AB'!B57+'DCA-Anexo I-AB'!B58
A12: 'DCA-Anexo I-AB'!B59=+'DCA-Anexo I-AB'!B60+'DCA-Anexo I-AB'!B61+'DCA-Anexo I-AB'!B62+'DCA-Anexo I-AB'!B63+'DCA-Anexo I-AB'!B64
... A1660: 'DCA-Anexo I-E'!F202=+'DCA-Anexo I-E'!F203+'DCA-Anexo I-E'!F204+'DCA-Anexo I-E'!F205+'DCA-Anexo I-E'!F206+'DCA-Anexo I-E'!F207+'DCA-Anexo I-E'!F208+'DCA-Anexo I-E'!F209+'DCA-Anexo I-E'!F210

Sheet DCA-Anexo I-C
A2: QDCC
A3: BALANÇO ANUAL (DCA)
A4: VERSÃO: v7
A5: VIGÊNCIA: 03/01/2019
A7: Ente: 4313425 - Novo Machado/RS
A8: Poder: E - Executivo
A9: Instituição: 9993 - Prefeitura Municipal de Novo Machado - RS
A10: Exercício: 2018
A11: Periodicidade: ANUAL
A12: Período: Período único (anual)
A14: Grupo: Balanço Orçamentário - Receitas Orçamentárias
A15: Quadro: Receitas Orçamentárias
A16: Rótulo: Padrão
A17: Receitas Orçamentárias | B17: Execução da Receita
B18: Receitas Brutas Realizadas | C18: Deduções - Transferências Constitucionais | D18: Deduções - FUNDEB | E18: Outras Deduções da Receita
A19: Receitas Orçamentárias
A20: Total Receitas | B20: =+'DCA-Anexo I-C'!B21+'DCA-Anexo I-C'!B407+'DCA-Anexo I-C'!B371+'DCA-Anexo I-C'!B302 -> 22085421 | C20: =+'DCA-Anexo I-C'!C21+'DCA-Anexo I-C'!C407+'DCA-Anexo I-C'!C371+'DCA-Anexo I-C'!C302 -> 0 | D20: =+'DCA-Anexo I-C'!D21+'DCA-Anexo I-C'!D407+'DCA-Anexo I-C'!D371+'DCA-Anexo I-C'!D302 -> 2636607 | E20: =+'DCA-Anexo I-C'!E21+'DCA-Anexo I-C'!E407+'DCA-Anexo I-C'!E371+'DCA-Anexo I-C'!E302 -> 11326.89
A21: 1.0.0.0.00.0.0 - Receitas Correntes | B21: =+'DCA-Anexo I-C'!B22+'DCA-Anexo I-C'!B180+'DCA-Anexo I-C'!B73+'DCA-Anexo I-C'!B262+'DCA-Anexo I-C'!B124+'DCA-Anexo I-C'!B158+'DCA-Anexo I-C'!B159+'DCA-Anexo I-C'!B160 -> 19982750 | C21: =+'DCA-Anexo I-C'!C22+'DCA-Anexo I-C'!C180+'DCA-Anexo I-C'!C73+'DCA-Anexo I-C'!C262+'DCA-Anexo I-C'!C124+'DCA-Anexo I-C'!C158+'DCA-Anexo I-C'!C159+'DCA-Anexo I-C'!C160 -> 0 | D21: =+'DCA-Anexo I-C'!D22+'DCA-Anexo I-C'!D180+'DCA-Anexo I-C'!D73+'DCA-Anexo I-C'!D262+'DCA-Anexo I-C'!D124+'DCA-Anexo I-C'!D158+'DCA-Anexo I-C'!D159+'DCA-Anexo I-C'!D160 -> 2636607 | E21: =+'DCA-Anexo I-C'!E22+'DCA-Anexo I-C'!E180+'DCA-Anexo I-C'!E73+'DCA-Anexo I-C'!E262+'DCA-Anexo I-C'!E124+'DCA-Anexo I-C'!E158+'DCA-Anexo I-C'!E159+'DCA-Anexo I-C'!E160 -> 11326.89
A22: 1.1.0.0.00.0.0 - Impostos, Taxas e Contribuições de Melhoria | B22: =+'DCA-Anexo I-C'!B23+'DCA-Anexo I-C'!B61+'DCA-Anexo I-C'!B71 -> 864945.59 | C22: =+'DCA-Anexo I-C'!C23+'DCA-Anexo I-C'!C61+'DCA-Anexo I-C'!C71 -> 0 | D22: =+'DCA-Anexo I-C'!D23+'DCA-Anexo I-C'!D61+'DCA-Anexo I-C'!D71 -> 0 | E22: =+'DCA-Anexo I-C'!E23+'DCA-Anexo I-C'!E61+'DCA-Anexo I-C'!E71 -> 11326.89
A23: 1.1.1.0.00.0.0 - Impostos | B23: =+'DCA-Anexo I-C'!B24+'DCA-Anexo I-C'!B60+'DCA-Anexo I-C'!B29+'DCA-Anexo I-C'!B27+'DCA-Anexo I-C'!B37+'DCA-Anexo I-C'!B44+'DCA-Anexo I-C'!B48 -> 839316.79 | C23: =+'DCA-Anexo I-C'!C24+'DCA-Anexo I-C'!C60+'DCA-Anexo I-C'!C29+'DCA-Anexo I-C'!C27+'DCA-Anexo I-C'!C37+'DCA-Anexo I-C'!C44+'DCA-Anexo I-C'!C48 -> 0 | D23: =+'DCA-Anexo I-C'!D24+'DCA-Anexo I-C'!D60+'DCA-Anexo I-C'!D29+'DCA-Anexo I-C'!D27+'DCA-Anexo I-C'!D37+'DCA-Anexo I-C'!D44+'DCA-Anexo I-C'!D48 -> 0 | E23: =+'DCA-Anexo I-C'!E24+'DCA-Anexo I-C'!E60+'DCA-Anexo I-C'!E29+'DCA-Anexo I-C'!E27+'DCA-Anexo I-C'!E37+'DCA-Anexo I-C'!E44+'DCA-Anexo I-C'!E48 -> 11326.89
A24: 1.1.1.1.00.0.0 - Impostos sobre o Comércio Exterior | B24: =+'DCA-Anexo I-C'!B25+'DCA-Anexo I-C'!B26 -> 0 | C24: =+'DCA-Anexo I-C'!C25+'DCA-Anexo I-C'!C26 -> 0 | D24: =+'DCA-Anexo I-C'!D25+'DCA-Anexo I-C'!D26 -> 0 | E24: =+'DCA-Anexo I-C'!E25+'DCA-Anexo I-C'!E26 -> 0
A25: 1.1.1.1.01.0.0 - Imposto sobre a Importação
A26: 1.1.1.1.02.0.0 - Imposto sobre a Exportação
A27: 1.1.1.2.00.0.0 - Impostos sobre o Patrimônio | B27: =+'DCA-Anexo I-C'!B28 -> 0 | C27: =+'DCA-Anexo I-C'!C28 -> 0 | D27: =+'DCA-Anexo I-C'!D28 -> 0 | E27: =+'DCA-Anexo I-C'!E28 -> 0
A28: 1.1.1.2.01.0.0 - Imposto sobre a Propriedade Territorial Rural
A29: 1.1.1.3.00.0.0 - Impostos sobre a Renda e Proventos de Qualquer Natureza | B29: =+'DCA-Anexo I-C'!B30+'DCA-Anexo I-C'!B31+'DCA-Anexo I-C'!B32 -> 435572.69 | C29: =+'DCA-Anexo I-C'!C30+'DCA-Anexo I-C'!C31+'DCA-Anexo I-C'!C32 -> 0 | D29: =+'DCA-Anexo I-C'!D30+'DCA-Anexo I-C'!D31+'DCA-Anexo I-C'!D32 -> 0 | E29: =+'DCA-Anexo I-C'!E30+'DCA-Anexo I-C'!E31+'DCA-Anexo I-C'!E32 -> 0
A30: 1.1.1.3.01.0.0 - Imposto sobre a Renda de Pessoa Física - IRPF
A31: 1.1.1.3.02.0.0 - Imposto sobre a Renda de Pessoa Jurídica - IRPJ - Líquida de Incentivos
A32: 1.1.1.3.03.0.0 - Imposto sobre a Renda - Retido na Fonte | B32: =+'DCA-Anexo I-C'!B33+'DCA-Anexo I-C'!B36+'DCA-Anexo I-C'!B35+'DCA-Anexo I-C'!B34 -> 435572.69 | C32: =+'DCA-Anexo I-C'!C33+'DCA-Anexo I-C'!C36+'DCA-Anexo I-C'!C35+'DCA-Anexo I-C'!C34 -> 0 | D32: =+'DCA-Anexo I-C'!D33+'DCA-Anexo I-C'!D36+'DCA-Anexo I-C'!D35+'DCA-Anexo I-C'!D34 -> 0 | E32: =+'DCA-Anexo I-C'!E33+'DCA-Anexo I-C'!E36+'DCA-Anexo I-C'!E35+'DCA-Anexo I-C'!E34 -> 0
A33: 1.1.1.3.03.1.0 - Imposto sobre a Renda - Retido na Fonte - Trabalho | B33: 435572.69
A34: 1.1.1.3.03.2.0 - Imposto sobre a Renda - Retido na Fonte - Capital
A35: 1.1.1.3.03.3.0 - Imposto sobre a Renda - Retido na Fonte - Remessa ao Exterior
A36: 1.1.1.3.03.4.0 - Imposto sobre a Renda - Retido na Fonte - Outros Rendimentos
A37: 1.1.1.4.00.0.0 - Impostos sobre a Produção, Circulação e Serviços | B37: =+'DCA-Anexo I-C'!B38 -> 0 | C37: =+'DCA-Anexo I-C'!C38 -> 0 | D37: =+'DCA-Anexo I-C'!D38 -> 0 | E37: =+'DCA-Anexo I-C'!E38 -> 0
A38: 1.1.1.4.01.0.0 - Imposto sobre Produtos Industrializados - IPI | B38: =+'DCA-Anexo I-C'!B39+'DCA-Anexo I-C'!B41+'DCA-Anexo I-C'!B42+'DCA-Anexo I-C'!B43+'DCA-Anexo I-C'!B40 -> 0 | C38: =+'DCA-Anexo I-C'!C39+'DCA-Anexo I-C'!C41+'DCA-Anexo I-C'!C42+'DCA-Anexo I-C'!C43+'DCA-Anexo I-C'!C40 -> 0 | D38: =+'DCA-Anexo I-C'!D39+'DCA-Anexo I-C'!D41+'DCA-Anexo I-C'!D42+'DCA-Anexo I-C'!D43+'DCA-Anexo I-C'!D40 -> 0 | E38: =+'DCA-Anexo I-C'!E39+'DCA-Anexo I-C'!E41+'DCA-Anexo I-C'!E42+'DCA-Anexo I-C'!E43+'DCA-Anexo I-C'!E40 -> 0
A39: 1.1.1.4.01.1.0 - Imposto sobre Produtos Industrializados - IPI - Fumo
A40: 1.1.1.4.01.2.0 - Imposto sobre Produtos Industrializados - IPI- Bebidas
A41: 1.1.1.4.01.3.0 - Imposto sobre Produtos Industrializados - IPI - Automóveis
A42: 1.1.1.4.01.4.0 - Imposto sobre Produtos Industrializados - IPI - Vinculados à Importação
A43: 1.1.1.4.01.5.0 - Imposto sobre Produtos Industrializados - IPI - Outros Produtos
...

Sheet DCA-Anexo I-D
A2: QDCC
A3: BALANÇO ANUAL (DCA)
A4: VERSÃO: v7
A5: VIGÊNCIA: 03/01/2019
A7: Ente: 4313425 - Novo Machado/RS
A8: Poder: E - Executivo
A9: Instituição: 9993 - Prefeitura Municipal de Novo Machado - RS
A10: Exercício: 2018
A11: Periodicidade: ANUAL
A12: Período: Período único (anual)
A14: Grupo: Balanço Orçamentário - Despesas Orçamentárias
A15: Quadro: Despesas Orçamentárias
A16: Rótulo: Padrão
A17: Despesas Orçamentárias | B17: Execução da Despesa
B18: Despesas Empenhadas | C18: Despesas Liquidadas | D18: Despesas Pagas | E18: Inscrição de Restos a Pagar Não Processados | F18: Inscrição de Restos a Pagar Processados
A19: Despesas Orçamentárias
A20: Total Geral da Despesa | B20: =+'DCA-Anexo I-D'!B21+'DCA-Anexo I-D'!B170 -> 16850953 | C20: =+'DCA-Anexo I-D'!C21+'DCA-Anexo I-D'!C170 -> 16721689 | D20: =+'DCA-Anexo I-D'!D21+'DCA-Anexo I-D'!D170 -> 16484070 | E20: =+'DCA-Anexo I-D'!E21+'DCA-Anexo I-D'!E170 -> 129264.18 | F20: =+'DCA-Anexo I-D'!F21+'DCA-Anexo I-D'!F170 -> 237618.9
A21: 3.0.00.00.00 - Despesas Correntes | B21: =+'DCA-Anexo I-D'!B22+'DCA-Anexo I-D'!B84+'DCA-Anexo I-D'!B67 -> 15394615 | C21: =+'DCA-Anexo I-D'!C22+'DCA-Anexo I-D'!C84+'DCA-Anexo I-D'!C67 -> 15265350 | D21: =+'DCA-Anexo I-D'!D22+'DCA-Anexo I-D'!D84+'DCA-Anexo I-D'!D67 -> 15052608 | E21: =+'DCA-Anexo I-D'!E22+'DCA-Anexo I-D'!E84+'DCA-Anexo I-D'!E67 -> 129264.18 | F21: =+'DCA-Anexo I-D'!F22+'DCA-Anexo I-D'!F84+'DCA-Anexo I-D'!F67 -> 212742.04
A22: 3.1.00.00.00 - Pessoal e Encargos Sociais | B22: =+'DCA-Anexo I-D'!B25+'DCA-Anexo I-D'!B27+'DCA-Anexo I-D'!B24+'DCA-Anexo I-D'!B63+'DCA-Anexo I-D'!B65+'DCA-Anexo I-D'!B29+'DCA-Anexo I-D'!B53+'DCA-Anexo I-D'!B26+'DCA-Anexo I-D'!B64+'DCA-Anexo I-D'!B23+'DCA-Anexo I-D'!B28+'DCA-Anexo I-D'!B30+'DCA-Anexo I-D'!B31 -> 10167168 | C22: =+'DCA-Anexo I-D'!C25+'DCA-Anexo I-D'!C27+'DCA-Anexo I-D'!C24+'DCA-Anexo I-D'!C63+'DCA-Anexo I-D'!C65+'DCA-Anexo I-D'!C29+'DCA-Anexo I-D'!C53+'DCA-Anexo I-D'!C26+'DCA-Anexo I-D'!C64+'DCA-Anexo I-D'!C23+'DCA-Anexo I-D'!C28+'DCA-Anexo I-D'!C30+'DCA-Anexo I-D'!C31 -> 10148126 | D22: =+'DCA-Anexo I-D'!D25+'DCA-Anexo I-D'!D27+'DCA-Anexo I-D'!D24+'DCA-Anexo I-D'!D63+'DCA-Anexo I-D'!D65+'DCA-Anexo I-D'!D29+'DCA-Anexo I-D'!D53+'DCA-Anexo I-D'!D26+'DCA-Anexo I-D'!D64+'DCA-Anexo I-D'!D23+'DCA-Anexo I-D'!D28+'DCA-Anexo I-D'!D30+'DCA-Anexo I-D'!D31 -> 10016471 | E22: =+'DCA-Anexo I-D'!E25+'DCA-Anexo I-D'!E27+'DCA-Anexo I-D'!E24+'DCA-Anexo I-D'!E63+'DCA-Anexo I-D'!E65+'DCA-Anexo I-D'!E29+'DCA-Anexo I-D'!E53+'DCA-Anexo I-D'!E26+'DCA-Anexo I-D'!E64+'DCA-Anexo I-D'!E23+'DCA-Anexo I-D'!E28+'DCA-Anexo I-D'!E30+'DCA-Anexo I-D'!E31 -> 19041.73 | F22: =+'DCA-Anexo I-D'!F25+'DCA-Anexo I-D'!F27+'DCA-Anexo I-D'!F24+'DCA-Anexo I-D'!F63+'DCA-Anexo I-D'!F65+'DCA-Anexo I-D'!F29+'DCA-Anexo I-D'!F53+'DCA-Anexo I-D'!F26+'DCA-Anexo I-D'!F64+'DCA-Anexo I-D'!F23+'DCA-Anexo I-D'!F28+'DCA-Anexo I-D'!F30+'DCA-Anexo I-D'!F31 -> 131654.81
A23: 3.1.20.00.00 - Transferências à União
A24: 3.1.30.00.00 - Transferências a Estados e ao Distrito Federal
A25: 3.1.40.00.00 - Transferências a Municípios
A26: 3.1.50.00.00 - Transferências a Instituições Sem Fins Lucrativos
A27: 3.1.71.00.00 - Transferências a Consórcios Públicos mediante contrato de rateio | B27: 101491.2 | C27: 101491.2 | D27: 101491.2
A28: 3.1.73.00.00 - Transferências a Consórcios Públicos mediante contrato de rateio à conta de recursos de que tratam os §§ 1º e 2º do art. 24 da Lei Complementar no 141, de 2012
A29: 3.1.74.00.00 - Transferências a Consórcios Públicos mediante contrato de rateio à conta de recursos de que trata o art. 25 da Lei Complementar no 141, de 2012
A30: 3.1.80.00.00 - Transferências ao Exterior
A31: 3.1.90.00.00 - Aplicações Diretas | B31: =+'DCA-Anexo I-D'!B32+'DCA-Anexo I-D'!B39+'DCA-Anexo I-D'!B46+'DCA-Anexo I-D'!B34+'DCA-Anexo I-D'!B40+'DCA-Anexo I-D'!B50+'DCA-Anexo I-D'!B52+'DCA-Anexo I-D'!B37+'DCA-Anexo I-D'!B45+'DCA-Anexo I-D'!B36+'DCA-Anexo I-D'!B48+'DCA-Anexo I-D'!B49+'DCA-Anexo I-D'!B38+'DCA-Anexo I-D'!B51+'DCA-Anexo I-D'!B33+'DCA-Anexo I-D'!B47+'DCA-Anexo I-D'!B35 -> 9085115 | C31: =+'DCA-Anexo I-D'!C32+'DCA-Anexo I-D'!C39+'DCA-Anexo I-D'!C46+'DCA-Anexo I-D'!C34+'DCA-Anexo I-D'!C40+'DCA-Anexo I-D'!C50+'DCA-Anexo I-D'!C52+'DCA-Anexo I-D'!C37+'DCA-Anexo I-D'!C45+'DCA-Anexo I-D'!C36+'DCA-Anexo I-D'!C48+'DCA-Anexo I-D'!C49+'DCA-Anexo I-D'!C38+'DCA-Anexo I-D'!C51+'DCA-Anexo I-D'!C33+'DCA-Anexo I-D'!C47+'DCA-Anexo I-D'!C35 -> 9066073.3 | D31: =+'DCA-Anexo I-D'!D32+'DCA-Anexo I-D'!D39+'DCA-Anexo I-D'!D46+'DCA-Anexo I-D'!D34+'DCA-Anexo I-D'!D40+'DCA-Anexo I-D'!D50+'DCA-Anexo I-D'!D52+'DCA-Anexo I-D'!D37+'DCA-Anexo I-D'!D45+'DCA-Anexo I-D'!D36+'DCA-Anexo I-D'!D48+'DCA-Anexo I-D'!D49+'DCA-Anexo I-D'!D38+'DCA-Anexo I-D'!D51+'DCA-Anexo I-D'!D33+'DCA-Anexo I-D'!D47+'DCA-Anexo I-D'!D35 -> 8934418.5 | E31: =+'DCA-Anexo I-D'!E32+'DCA-Anexo I-D'!E39+'DCA-Anexo I-D'!E46+'DCA-Anexo I-D'!E34+'DCA-Anexo I-D'!E40+'DCA-Anexo I-D'!E50+'DCA-Anexo I-D'!E52+'DCA-Anexo I-D'!E37+'DCA-Anexo I-D'!E45+'DCA-Anexo I-D'!E36+'DCA-Anexo I-D'!E48+'DCA-Anexo I-D'!E49+'DCA-Anexo I-D'!E38+'DCA-Anexo I-D'!E51+'DCA-Anexo I-D'!E33+'DCA-Anexo I-D'!E47+'DCA-Anexo I-D'!E35 -> 19041.73 | F31: =+'DCA-Anexo I-D'!F32+'DCA-Anexo I-D'!F39+'DCA-Anexo I-D'!F46+'DCA-Anexo I-D'!F34+'DCA-Anexo I-D'!F40+'DCA-Anexo I-D'!F50+'DCA-Anexo I-D'!F52+'DCA-Anexo I-D'!F37+'DCA-Anexo I-D'!F45+'DCA-Anexo I-D'!F36+'DCA-Anexo I-D'!F48+'DCA-Anexo I-D'!F49+'DCA-Anexo I-D'!F38+'DCA-Anexo I-D'!F51+'DCA-Anexo I-D'!F33+'DCA-Anexo I-D'!F47+'DCA-Anexo I-D'!F35 -> 131654.81
A32: 3.1.90.01.00 - Aposentadorias do RPPS, Reserva Remunerada e Reformas dos Militares | B32: 627047.96 | C32: 627047.96 | D32: 627047.96
A33: 3.1.90.03.00 - Pensões do RPPS e do Militar | B33: 112325.9 | C33: 112325.9 | D33: 112325.9
A34: 3.1.90.04.00 - Contratação por Tempo Determinado | B34: 258337.37 | C34: 258337.37 | D34: 253330.02 | F34: 5007.35
A35: 3.1.90.05.00 - Outros Benefícios Previdenciários do Servidor ou do Militar | B35: 211866.66 | C35: 211866.66 | D35: 211866.66
A36: 3.1.90.07.00 - Contribuição a Entidades Fechadas de Previdência
A37: 3.1.90.08.00 - Outros Benefícios Assistenciais do Servidor ou do Militar | B37: 179040.94 | C37: 179040.94 | D37: 179040.94
A38: 3.1.90.11.00 - Vencimentos e Vantagens Fixas - Pessoal Civil | B38: 7254422.6 | C38: 7235380.8 | D38: 7153794.7 | E38: =B38-C38 -> 19041.73 | F38: =C38-D38 -> 81586.14
A39: 3.1.90.12.00 - Vencimentos e Vantagens Fixas - Pessoal Militar
A40: 3.1.90.13.00 - Obrigações Patronais | B40: =+'DCA-Anexo I-D'!B44+'DCA-Anexo I-D'!B43+'DCA-Anexo I-D'!B41+'DCA-Anexo I-D'!B42 -> 395606.02 | C40: =+'DCA-Anexo I-D'!C44+'DCA-Anexo I-D'!C43+'DCA-Anexo I-D'!C41+'DCA-Anexo I-D'!C42 -> 395606.02 | D40: =+'DCA-Anexo I-D'!D44+'DCA-Anexo I-D'!D43+'DCA-Anexo I-D'!D41+'DCA-Anexo I-D'!D42 -> 350544.7 | E40: =B40-C40 -> 0 | F40: =C40-D40 -> 45061.32
A41: 3.1.90.13.01 - FGTS | B41: 9988.31 | C41: 9988.31 | D41: 8959.94 | E41: =B41-C41 -> 0 | F41: =C41-D41 -> 1028.37
A42: 3.1.90.13.02 - Contribuições Previdenciárias - INSS | B42: 204737.42 | C42: 204737.42 | D42: 172447.25 | E42: =B42-C42 -> 0 | F42: =C42-D42 -> 32290.17
A43: 3.1.90.13.08 - Plano de Seg. Soc. do Servidor - Pessoal Ativo
...

Sheet DCA-Anexo I-E
A2: QDCC
A3: BALANÇO ANUAL (DCA)
A4: VERSÃO: v7
A5: VIGÊNCIA: 03/01/2019
A7: Ente: 4313425 - Novo Machado/RS
A8: Poder: E - Executivo
A9: Instituição: 9993 - Prefeitura Municipal de Novo Machado - RS
A10: Exercício: 2018
A11: Periodicidade: ANUAL
A12: Período: Período único (anual)
A14: Grupo: Balanço Orçamentário - Despesas por Função
A15: Quadro: Despesas por Função
A16: Rótulo: Total Geral da Despesa por Função
A17: Despesas por Função | B17: Execução da Despesa
B18: Despesas Empenhadas | C18: Despesas Liquidadas | D18: Despesas Pagas | E18: Inscrição de Restos a Pagar Não Processados | F18: Inscrição de Restos a Pagar Processados
A19: Despesas Exceto Intraorçamentárias | B19: =+'DCA-Anexo I-E'!B20+'DCA-Anexo I-E'!B25+'DCA-Anexo I-E'!B30+'DCA-Anexo I-E'!B35+'DCA-Anexo I-E'!B48+'DCA-Anexo I-E'!B54+'DCA-Anexo I-E'!B60+'DCA-Anexo I-E'!B65+'DCA-Anexo I-E'!B72+'DCA-Anexo I-E'!B79+'DCA-Anexo I-E'!B88+'DCA-Anexo I-E'!B95+'DCA-Anexo I-E'!B106+'DCA-Anexo I-E'!B111+'DCA-Anexo I-E'!B117+'DCA-Anexo I-E'!B123+'DCA-Anexo I-E'!B128+'DCA-Anexo I-E'!B133+'DCA-Anexo I-E'!B141+'DCA-Anexo I-E'!B147+'DCA-Anexo I-E'!B155+'DCA-Anexo I-E'!B160+'DCA-Anexo I-E'!B168+'DCA-Anexo I-E'!B176+'DCA-Anexo I-E'!B181+'DCA-Anexo I-E'!B188+'DCA-Anexo I-E'!B196+'DCA-Anexo I-E'!B202 -> 16850953 | C19: =+'DCA-Anexo I-E'!C20+'DCA-Anexo I-E'!C25+'DCA-Anexo I-E'!C30+'DCA-Anexo I-E'!C35+'DCA-Anexo I-E'!C48+'DCA-Anexo I-E'!C54+'DCA-Anexo I-E'!C60+'DCA-Anexo I-E'!C65+'DCA-Anexo I-E'!C72+'DCA-Anexo I-E'!C79+'DCA-Anexo I-E'!C88+'DCA-Anexo I-E'!C95+'DCA-Anexo I-E'!C106+'DCA-Anexo I-E'!C111+'DCA-Anexo I-E'!C117+'DCA-Anexo I-E'!C123+'DCA-Anexo I-E'!C128+'DCA-Anexo I-E'!C133+'DCA-Anexo I-E'!C141+'DCA-Anexo I-E'!C147+'DCA-Anexo I-E'!C155+'DCA-Anexo I-E'!C160+'DCA-Anexo I-E'!C168+'DCA-Anexo I-E'!C176+'DCA-Anexo I-E'!C181+'DCA-Anexo I-E'!C188+'DCA-Anexo I-E'!C196+'DCA-Anexo I-E'!C202 -> 16721689 | D19: =+'DCA-Anexo I-E'!D20+'DCA-Anexo I-E'!D25+'DCA-Anexo I-E'!D30+'DCA-Anexo I-E'!D35+'DCA-Anexo I-E'!D48+'DCA-Anexo I-E'!D54+'DCA-Anexo I-E'!D60+'DCA-Anexo I-E'!D65+'DCA-Anexo I-E'!D72+'DCA-Anexo I-E'!D79+'DCA-Anexo I-E'!D88+'DCA-Anexo I-E'!D95+'DCA-Anexo I-E'!D106+'DCA-Anexo I-E'!D111+'DCA-Anexo I-E'!D117+'DCA-Anexo I-E'!D123+'DCA-Anexo I-E'!D128+'DCA-Anexo I-E'!D133+'DCA-Anexo I-E'!D141+'DCA-Anexo I-E'!D147+'DCA-Anexo I-E'!D155+'DCA-Anexo I-E'!D160+'DCA-Anexo I-E'!D168+'DCA-Anexo I-E'!D176+'DCA-Anexo I-E'!D181+'DCA-Anexo I-E'!D188+'DCA-Anexo I-E'!D196+'DCA-Anexo I-E'!D202 -> 16484070 | E19: =+'DCA-Anexo I-E'!E20+'DCA-Anexo I-E'!E25+'DCA-Anexo I-E'!E30+'DCA-Anexo I-E'!E35+'DCA-Anexo I-E'!E48+'DCA-Anexo I-E'!E54+'DCA-Anexo I-E'!E60+'DCA-Anexo I-E'!E65+'DCA-Anexo I-E'!E72+'DCA-Anexo I-E'!E79+'DCA-Anexo I-E'!E88+'DCA-Anexo I-E'!E95+'DCA-Anexo I-E'!E106+'DCA-Anexo I-E'!E111+'DCA-Anexo I-E'!E117+'DCA-Anexo I-E'!E123+'DCA-Anexo I-E'!E128+'DCA-Anexo I-E'!E133+'DCA-Anexo I-E'!E141+'DCA-Anexo I-E'!E147+'DCA-Anexo I-E'!E155+'DCA-Anexo I-E'!E160+'DCA-Anexo I-E'!E168+'DCA-Anexo I-E'!E176+'DCA-Anexo I-E'!E181+'DCA-Anexo I-E'!E188+'DCA-Anexo I-E'!E196+'DCA-Anexo I-E'!E202 -> 129264.18 | F19: =+'DCA-Anexo I-E'!F20+'DCA-Anexo I-E'!F25+'DCA-Anexo I-E'!F30+'DCA-Anexo I-E'!F35+'DCA-Anexo I-E'!F48+'DCA-Anexo I-E'!F54+'DCA-Anexo I-E'!F60+'DCA-Anexo I-E'!F65+'DCA-Anexo I-E'!F72+'DCA-Anexo I-E'!F79+'DCA-Anexo I-E'!F88+'DCA-Anexo I-E'!F95+'DCA-Anexo I-E'!F106+'DCA-Anexo I-E'!F111+'DCA-Anexo I-E'!F117+'DCA-Anexo I-E'!F123+'DCA-Anexo I-E'!F128+'DCA-Anexo I-E'!F133+'DCA-Anexo I-E'!F141+'DCA-Anexo I-E'!F147+'DCA-Anexo I-E'!F155+'DCA-Anexo I-E'!F160+'DCA-Anexo I-E'!F168+'DCA-Anexo I-E'!F176+'DCA-Anexo I-E'!F181+'DCA-Anexo I-E'!F188+'DCA-Anexo I-E'!F196+'DCA-Anexo I-E'!F202 -> 237618.9
A20: 01 - Legislativa | B20: =+'DCA-Anexo I-E'!B21+'DCA-Anexo I-E'!B22+'DCA-Anexo I-E'!B24+'DCA-Anexo I-E'!B23 -> 571129.96 | C20: =+'DCA-Anexo I-E'!C21+'DCA-Anexo I-E'!C22+'DCA-Anexo I-E'!C24+'DCA-Anexo I-E'!C23 -> 570599.96 | D20: =+'DCA-Anexo I-E'!D21+'DCA-Anexo I-E'!D22+'DCA-Anexo I-E'!D24+'DCA-Anexo I-E'!D23 -> 570474.21 | E20: =+'DCA-Anexo I-E'!E21+'DCA-Anexo I-E'!E22+'DCA-Anexo I-E'!E24+'DCA-Anexo I-E'!E23 -> 530 | F20: =+'DCA-Anexo I-E'!F21+'DCA-Anexo I-E'!F22+'DCA-Anexo I-E'!F24+'DCA-Anexo I-E'!F23 -> 125.75
A21: 01.031 - Ação Legislativa | B21: 571129.96 | C21: 570599.96 | D21: 570474.21 | E21: 530 | F21: 125.75
A22: 01.032 - Controle Externo
A23: 01.122 - Administração Geral
A24: FU01 - Demais Subfunções
A25: 02 - Judiciária | B25: =+'DCA-Anexo I-E'!B26+'DCA-Anexo I-E'!B27+'DCA-Anexo I-E'!B29+'DCA-Anexo I-E'!B28 -> 0 | C25: =+'DCA-Anexo I-E'!C26+'DCA-Anexo I-E'!C27+'DCA-Anexo I-E'!C29+'DCA-Anexo I-E'!C28 -> 0 | D25: =+'DCA-Anexo I-E'!D26+'DCA-Anexo I-E'!D27+'DCA-Anexo I-E'!D29+'DCA-Anexo I-E'!D28 -> 0 | E25: =+'DCA-Anexo I-E'!E26+'DCA-Anexo I-E'!E27+'DCA-Anexo I-E'!E29+'DCA-Anexo I-E'!E28 -> 0 | F25: =+'DCA-Anexo I-E'!F26+'DCA-Anexo I-E'!F27+'DCA-Anexo I-E'!F29+'DCA-Anexo I-E'!F28 -> 0
A26: 02.061 - Ação Judiciária
A27: 02.062 - Defesa do Interesse Público no Processo Judiciário
A28: 02.122 - Administração Geral
A29: FU02 - Demais Subfunções
A30: 03 - Essencial à Justiça | B30: =+'DCA-Anexo I-E'!B31+'DCA-Anexo I-E'!B32+'DCA-Anexo I-E'!B34+'DCA-Anexo I-E'!B33 -> 0 | C30: =+'DCA-Anexo I-E'!C31+'DCA-Anexo I-E'!C32+'DCA-Anexo I-E'!C34+'DCA-Anexo I-E'!C33 -> 0 | D30: =+'DCA-Anexo I-E'!D31+'DCA-Anexo I-E'!D32+'DCA-Anexo I-E'!D34+'DCA-Anexo I-E'!D33 -> 0 | E30: =+'DCA-Anexo I-E'!E31+'DCA-Anexo I-E'!E32+'DCA-Anexo I-E'!E34+'DCA-Anexo I-E'!E33 -> 0 | F30: =+'DCA-Anexo I-E'!F31+'DCA-Anexo I-E'!F32+'DCA-Anexo I-E'!F34+'DCA-Anexo I-E'!F33 -> 0
A31: 03.091 - Defesa da Ordem Jurídica
A32: 03.092 - Representação Judicial e Extrajudicial
A33: 03.122 - Administração Geral
A34: FU03 - Demais Subfunções
A35: 04 - Administração | B35: =+'DCA-Anexo I-E'!B36+'DCA-Anexo I-E'!B37+'DCA-Anexo I-E'!B38+'DCA-Anexo I-E'!B39+'DCA-Anexo I-E'!B40+'DCA-Anexo I-E'!B41+'DCA-Anexo I-E'!B42+'DCA-Anexo I-E'!B43+'DCA-Anexo I-E'!B44+'DCA-Anexo I-E'!B45+'DCA-Anexo I-E'!B46+'DCA-Anexo I-E'!B47 -> 3031527.5 | C35: =+'DCA-Anexo I-E'!C36+'DCA-Anexo I-E'!C37+'DCA-Anexo I-E'!C38+'DCA-Anexo I-E'!C39+'DCA-Anexo I-E'!C40+'DCA-Anexo I-E'!C41+'DCA-Anexo I-E'!C42+'DCA-Anexo I-E'!C43+'DCA-Anexo I-E'!C44+'DCA-Anexo I-E'!C45+'DCA-Anexo I-E'!C46+'DCA-Anexo I-E'!C47 -> 3010700.2 | D35: =+'DCA-Anexo I-E'!D36+'DCA-Anexo I-E'!D37+'DCA-Anexo I-E'!D38+'DCA-Anexo I-E'!D39+'DCA-Anexo I-E'!D40+'DCA-Anexo I-E'!D41+'DCA-Anexo I-E'!D42+'DCA-Anexo I-E'!D43+'DCA-Anexo I-E'!D44+'DCA-Anexo I-E'!D45+'DCA-Anexo I-E'!D46+'DCA-Anexo I-E'!D47 -> 2971304.7 | E35: =+'DCA-Anexo I-E'!E36+'DCA-Anexo I-E'!E37+'DCA-Anexo I-E'!E38+'DCA-Anexo I-E'!E39+'DCA-Anexo I-E'!E40+'DCA-Anexo I-E'!E41+'DCA-Anexo I-E'!E42+'DCA-Anexo I-E'!E43+'DCA-Anexo I-E'!E44+'DCA-Anexo I-E'!E45+'DCA-Anexo I-E'!E46+'DCA-Anexo I-E'!E47 -> 20827.21 | F35: =+'DCA-Anexo I-E'!F36+'DCA-Anexo I-E'!F37+'DCA-Anexo I-E'!F38+'DCA-Anexo I-E'!F39+'DCA-Anexo I-E'!F40+'DCA-Anexo I-E'!F41+'DCA-Anexo I-E'!F42+'DCA-Anexo I-E'!F43+'DCA-Anexo I-E'!F44+'DCA-Anexo I-E'!F45+'DCA-Anexo I-E'!F46+'DCA-Anexo I-E'!F47 -> 39395.57
A36: 04.121 - Planejamento e Orçamento | B36: =386203.64+24892.04 -> 411095.68 | C36: =386145.16+24892.04 -> 411037.2 | D36: =24892.04+381953.34 -> 406845.38 | E36: 58.48 | F36: 4191.82
A37: 04.122 - Administração Geral | B37: =1956395.23+68854.54 -> 2025249.8 | C37: =1937432.85+68854.54 -> 2006287.4 | D37: =1905250.66+68854.54 -> 1974105.2 | E37: 18962.38 | F37: 32182.19
A38: 04.123 - Administração Financeira | B38: =559125.11+36056.89 -> 595182 | C38: =557318.76+36056.89 -> 593375.65 | D38: =554297.2+36056.89 -> 590354.09 | E38: 1806.35 | F38: 3021.56
A39: 04.124 - Controle Interno
A40: 04.125 - Normatização e Fiscalização
A41: 04.126 - Tecnologia da Informação
A42: 04.127 - Ordenamento Territorial
A43: 04.128 - Formação de Recursos Humanos
...

Sheet DCA-Anexo I-F
A2: QDCC
A3: BALANÇO ANUAL (DCA)
A4: VERSÃO: v7
A5: VIGÊNCIA: 03/01/2019
A7: Ente: 4313425 - Novo Machado/RS
A8: Poder: E - Executivo
A9: Instituição: 9993 - Prefeitura Municipal de Novo Machado - RS
A10: Exercício: 2018
A11: Periodicidade: ANUAL
A12: Período: Período único (anual)
A14: Grupo: Balanço Orçamentário - Despesas Orçamentárias - Sub Quadro - Execução dos Restos a Pagar
A15: Quadro: Despesas Orçamentárias
A16: Rótulo: Padrão
A17: Despesas Orçamentárias | B17: Execução da Despesa
B18: Restos a Pagar Não Processados Inscritos em Exercícios Anteriores | C18: Restos a Pagar Não Processados Inscritos em 31 de Dezembro do Exercício Anterior | D18: Restos a Pagar Não Processados Liquidados | E18: Restos a Pagar Não Processados Pagos | F18: Restos a Pagar Não Processados Cancelados | G18: Restos a Pagar Processados Inscritos em Exercícios Anteriores | H18: Restos a Pagar Processados Inscritos em 31 de Dezembro do Exercício Anterior | I18: Restos a Pagar Processados Pagos | J18: Restos a Pagar Processados Cancelados
A19: Despesas Orçamentárias
A20: Total Despesas | B20: =+'DCA-Anexo I-F'!B21+'DCA-Anexo I-F'!B170 -> 76246.54 | C20: =+'DCA-Anexo I-F'!C21+'DCA-Anexo I-F'!C170 -> 249728.06 | D20: =+'DCA-Anexo I-F'!D21+'DCA-Anexo I-F'!D170 -> 243645.71 | E20: =+'DCA-Anexo I-F'!E21+'DCA-Anexo I-F'!E170 -> 243645.71 | F20: =+'DCA-Anexo I-F'!F21+'DCA-Anexo I-F'!F170 -> 38870.86 | G20: =+'DCA-Anexo I-F'!G21+'DCA-Anexo I-F'!G170 -> 49688.11 | H20: =+'DCA-Anexo I-F'!H21+'DCA-Anexo I-F'!H170 -> 359216.5 | I20: =+'DCA-Anexo I-F'!I21+'DCA-Anexo I-F'!I170 -> 407663.24 | J20: =+'DCA-Anexo I-F'!J21+'DCA-Anexo I-F'!J170 -> 1241.37
A21: 3.0.00.00.00 - Despesas Correntes | B21: =+'DCA-Anexo I-F'!B22+'DCA-Anexo I-F'!B84+'DCA-Anexo I-F'!B67 -> 2140 | C21: =+'DCA-Anexo I-F'!C22+'DCA-Anexo I-F'!C84+'DCA-Anexo I-F'!C67 -> 91493.98 | D21: =+'DCA-Anexo I-F'!D22+'DCA-Anexo I-F'!D84+'DCA-Anexo I-F'!D67 -> 52623.12 | E21: =+'DCA-Anexo I-F'!E22+'DCA-Anexo I-F'!E84+'DCA-Anexo I-F'!E67 -> 52623.12 | F21: =+'DCA-Anexo I-F'!F22+'DCA-Anexo I-F'!F84+'DCA-Anexo I-F'!F67 -> 38870.86 | G21: =+'DCA-Anexo I-F'!G22+'DCA-Anexo I-F'!G84+'DCA-Anexo I-F'!G67 -> 54.75 | H21: =+'DCA-Anexo I-F'!H22+'DCA-Anexo I-F'!H84+'DCA-Anexo I-F'!H67 -> 355316.5 | I21: =+'DCA-Anexo I-F'!I22+'DCA-Anexo I-F'!I84+'DCA-Anexo I-F'!I67 -> 354129.88 | J21: =+'DCA-Anexo I-F'!J22+'DCA-Anexo I-F'!J84+'DCA-Anexo I-F'!J67 -> 1241.37
A22: 3.1.00.00.00 - Pessoal e Encargos Sociais | B22: =+'DCA-Anexo I-F'!B26+'DCA-Anexo I-F'!B63+'DCA-Anexo I-F'!B25+'DCA-Anexo I-F'!B23+'DCA-Anexo I-F'!B65+'DCA-Anexo I-F'!B53+'DCA-Anexo I-F'!B64+'DCA-Anexo I-F'!B31+'DCA-Anexo I-F'!B24+'DCA-Anexo I-F'!B27+'DCA-Anexo I-F'!B28+'DCA-Anexo I-F'!B29+'DCA-Anexo I-F'!B30 -> 0 | C22: =+'DCA-Anexo I-F'!C26+'DCA-Anexo I-F'!C63+'DCA-Anexo I-F'!C25+'DCA-Anexo I-F'!C23+'DCA-Anexo I-F'!C65+'DCA-Anexo I-F'!C53+'DCA-Anexo I-F'!C64+'DCA-Anexo I-F'!C31+'DCA-Anexo I-F'!C24+'DCA-Anexo I-F'!C27+'DCA-Anexo I-F'!C28+'DCA-Anexo I-F'!C29+'DCA-Anexo I-F'!C30 -> 30007.88 | D22: =+'DCA-Anexo I-F'!D26+'DCA-Anexo I-F'!D63+'DCA-Anexo I-F'!D25+'DCA-Anexo I-F'!D23+'DCA-Anexo I-F'!D65+'DCA-Anexo I-F'!D53+'DCA-Anexo I-F'!D64+'DCA-Anexo I-F'!D31+'DCA-Anexo I-F'!D24+'DCA-Anexo I-F'!D27+'DCA-Anexo I-F'!D28+'DCA-Anexo I-F'!D29+'DCA-Anexo I-F'!D30 -> 29487.25 | E22: =+'DCA-Anexo I-F'!E26+'DCA-Anexo I-F'!E63+'DCA-Anexo I-F'!E25+'DCA-Anexo I-F'!E23+'DCA-Anexo I-F'!E65+'DCA-Anexo I-F'!E53+'DCA-Anexo I-F'!E64+'DCA-Anexo I-F'!E31+'DCA-Anexo I-F'!E24+'DCA-Anexo I-F'!E27+'DCA-Anexo I-F'!E28+'DCA-Anexo I-F'!E29+'DCA-Anexo I-F'!E30 -> 29487.25 | F22: =+'DCA-Anexo I-F'!F26+'DCA-Anexo I-F'!F63+'DCA-Anexo I-F'!F25+'DCA-Anexo I-F'!F23+'DCA-Anexo I-F'!F65+'DCA-Anexo I-F'!F53+'DCA-Anexo I-F'!F64+'DCA-Anexo I-F'!F31+'DCA-Anexo I-F'!F24+'DCA-Anexo I-F'!F27+'DCA-Anexo I-F'!F28+'DCA-Anexo I-F'!F29+'DCA-Anexo I-F'!F30 -> 520.63 | G22: =+'DCA-Anexo I-F'!G26+'DCA-Anexo I-F'!G63+'DCA-Anexo I-F'!G25+'DCA-Anexo I-F'!G23+'DCA-Anexo I-F'!G65+'DCA-Anexo I-F'!G53+'DCA-Anexo I-F'!G64+'DCA-Anexo I-F'!G31+'DCA-Anexo I-F'!G24+'DCA-Anexo I-F'!G27+'DCA-Anexo I-F'!G28+'DCA-Anexo I-F'!G29+'DCA-Anexo I-F'!G30 -> 0 | H22: =+'DCA-Anexo I-F'!H26+'DCA-Anexo I-F'!H63+'DCA-Anexo I-F'!H25+'DCA-Anexo I-F'!H23+'DCA-Anexo I-F'!H65+'DCA-Anexo I-F'!H53+'DCA-Anexo I-F'!H64+'DCA-Anexo I-F'!H31+'DCA-Anexo I-F'!H24+'DCA-Anexo I-F'!H27+'DCA-Anexo I-F'!H28+'DCA-Anexo I-F'!H29+'DCA-Anexo I-F'!H30 -> 175279.49 | I22: =+'DCA-Anexo I-F'!I26+'DCA-Anexo I-F'!I63+'DCA-Anexo I-F'!I25+'DCA-Anexo I-F'!I23+'DCA-Anexo I-F'!I65+'DCA-Anexo I-F'!I53+'DCA-Anexo I-F'!I64+'DCA-Anexo I-F'!I31+'DCA-Anexo I-F'!I24+'DCA-Anexo I-F'!I27+'DCA-Anexo I-F'!I28+'DCA-Anexo I-F'!I29+'DCA-Anexo I-F'!I30 -> 175279.49 | J22: =+'DCA-Anexo I-F'!J26+'DCA-Anexo I-F'!J63+'DCA-Anexo I-F'!J25+'DCA-Anexo I-F'!J23+'DCA-Anexo I-F'!J65+'DCA-Anexo I-F'!J53+'DCA-Anexo I-F'!J64+'DCA-Anexo I-F'!J31+'DCA-Anexo I-F'!J24+'DCA-Anexo I-F'!J27+'DCA-Anexo I-F'!J28+'DCA-Anexo I-F'!J29+'DCA-Anexo I-F'!J30 -> 0
A23: 3.1.20.00.00 - Transferências à União
A24: 3.1.30.00.00 - Transferências a Estados e ao Distrito Federal
A25: 3.1.40.00.00 - Transferências a Municípios
A26: 3.1.50.00.00 - Transferências a Instituições Sem Fins Lucrativos
A27: 3.1.71.00.00 - Transferências a Consórcios Públicos mediante contrato de rateio | C27: 520.63 | F27: 520.63
A28: 3.1.73.00.00 - Transferências a Consórcios Públicos mediante contrato de rateio à conta de recursos de que tratam os §§ 1º e 2º do art. 24 da Lei Complementar no 141, de 2012
A29: 3.1.74.00.00 - Transferências a Consórcios Públicos mediante contrato de rateio à conta de recursos de que trata o art. 25 da Lei Complementar no 141, de 2012
A30: 3.1.80.00.00 - Transferências ao Exterior
A31: 3.1.90.00.00 - Aplicações Diretas | B31: =+'DCA-Anexo I-F'!B32+'DCA-Anexo I-F'!B36+'DCA-Anexo I-F'!B40+'DCA-Anexo I-F'!B34+'DCA-Anexo I-F'!B47+'DCA-Anexo I-F'!B37+'DCA-Anexo I-F'!B38+'DCA-Anexo I-F'!B46+'DCA-Anexo I-F'!B39+'DCA-Anexo I-F'!B33+'DCA-Anexo I-F'!B48+'DCA-Anexo I-F'!B49+'DCA-Anexo I-F'!B52+'DCA-Anexo I-F'!B51+'DCA-Anexo I-F'!B50+'DCA-Anexo I-F'!B45+'DCA-Anexo I-F'!B35 -> 0 | C31: =+'DCA-Anexo I-F'!C32+'DCA-Anexo I-F'!C36+'DCA-Anexo I-F'!C40+'DCA-Anexo I-F'!C34+'DCA-Anexo I-F'!C47+'DCA-Anexo I-F'!C37+'DCA-Anexo I-F'!C38+'DCA-Anexo I-F'!C46+'DCA-Anexo I-F'!C39+'DCA-Anexo I-F'!C33+'DCA-Anexo I-F'!C48+'DCA-Anexo I-F'!C49+'DCA-Anexo I-F'!C52+'DCA-Anexo I-F'!C51+'DCA-Anexo I-F'!C50+'DCA-Anexo I-F'!C45+'DCA-Anexo I-F'!C35 -> 200 | D31: =+'DCA-Anexo I-F'!D32+'DCA-Anexo I-F'!D36+'DCA-Anexo I-F'!D40+'DCA-Anexo I-F'!D34+'DCA-Anexo I-F'!D47+'DCA-Anexo I-F'!D37+'DCA-Anexo I-F'!D38+'DCA-Anexo I-F'!D46+'DCA-Anexo I-F'!D39+'DCA-Anexo I-F'!D33+'DCA-Anexo I-F'!D48+'DCA-Anexo I-F'!D49+'DCA-Anexo I-F'!D52+'DCA-Anexo I-F'!D51+'DCA-Anexo I-F'!D50+'DCA-Anexo I-F'!D45+'DCA-Anexo I-F'!D35 -> 200 | E31: =+'DCA-Anexo I-F'!E32+'DCA-Anexo I-F'!E36+'DCA-Anexo I-F'!E40+'DCA-Anexo I-F'!E34+'DCA-Anexo I-F'!E47+'DCA-Anexo I-F'!E37+'DCA-Anexo I-F'!E38+'DCA-Anexo I-F'!E46+'DCA-Anexo I-F'!E39+'DCA-Anexo I-F'!E33+'DCA-Anexo I-F'!E48+'DCA-Anexo I-F'!E49+'DCA-Anexo I-F'!E52+'DCA-Anexo I-F'!E51+'DCA-Anexo I-F'!E50+'DCA-Anexo I-F'!E45+'DCA-Anexo I-F'!E35 -> 200 | F31: =+'DCA-Anexo I-F'!F32+'DCA-Anexo I-F'!F36+'DCA-Anexo I-F'!F40+'DCA-Anexo I-F'!F34+'DCA-Anexo I-F'!F47+'DCA-Anexo I-F'!F37+'DCA-Anexo I-F'!F38+'DCA-Anexo I-F'!F46+'DCA-Anexo I-F'!F39+'DCA-Anexo I-F'!F33+'DCA-Anexo I-F'!F48+'DCA-Anexo I-F'!F49+'DCA-Anexo I-F'!F52+'DCA-Anexo I-F'!F51+'DCA-Anexo I-F'!F50+'DCA-Anexo I-F'!F45+'DCA-Anexo I-F'!F35 -> 0 | G31: =+'DCA-Anexo I-F'!G32+'DCA-Anexo I-F'!G36+'DCA-Anexo I-F'!G40+'DCA-Anexo I-F'!G34+'DCA-Anexo I-F'!G47+'DCA-Anexo I-F'!G37+'DCA-Anexo I-F'!G38+'DCA-Anexo I-F'!G46+'DCA-Anexo I-F'!G39+'DCA-Anexo I-F'!G33+'DCA-Anexo I-F'!G48+'DCA-Anexo I-F'!G49+'DCA-Anexo I-F'!G52+'DCA-Anexo I-F'!G51+'DCA-Anexo I-F'!G50+'DCA-Anexo I-F'!G45+'DCA-Anexo I-F'!G35 -> 0 | H31: =+'DCA-Anexo I-F'!H32+'DCA-Anexo I-F'!H36+'DCA-Anexo I-F'!H40+'DCA-Anexo I-F'!H34+'DCA-Anexo I-F'!H47+'DCA-Anexo I-F'!H37+'DCA-Anexo I-F'!H38+'DCA-Anexo I-F'!H46+'DCA-Anexo I-F'!H39+'DCA-Anexo I-F'!H33+'DCA-Anexo I-F'!H48+'DCA-Anexo I-F'!H49+'DCA-Anexo I-F'!H52+'DCA-Anexo I-F'!H51+'DCA-Anexo I-F'!H50+'DCA-Anexo I-F'!H45+'DCA-Anexo I-F'!H35 -> 135991.36 | I31: =+'DCA-Anexo I-F'!I32+'DCA-Anexo I-F'!I36+'DCA-Anexo I-F'!I40+'DCA-Anexo I-F'!I34+'DCA-Anexo I-F'!I47+'DCA-Anexo I-F'!I37+'DCA-Anexo I-F'!I38+'DCA-Anexo I-F'!I46+'DCA-Anexo I-F'!I39+'DCA-Anexo I-F'!I33+'DCA-Anexo I-F'!I48+'DCA-Anexo I-F'!I49+'DCA-Anexo I-F'!I52+'DCA-Anexo I-F'!I51+'DCA-Anexo I-F'!I50+'DCA-Anexo I-F'!I45+'DCA-Anexo I-F'!I35 -> 135991.36 | J31: =+'DCA-Anexo I-F'!J32+'DCA-Anexo I-F'!J36+'DCA-Anexo I-F'!J40+'DCA-Anexo I-F'!J34+'DCA-Anexo I-F'!J47+'DCA-Anexo I-F'!J37+'DCA-Anexo I-F'!J38+'DCA-Anexo I-F'!J46+'DCA-Anexo I-F'!J39+'DCA-Anexo I-F'!J33+'DCA-Anexo I-F'!J48+'DCA-Anexo I-F'!J49+'DCA-Anexo I-F'!J52+'DCA-Anexo I-F'!J51+'DCA-Anexo I-F'!J50+'DCA-Anexo I-F'!J45+'DCA-Anexo I-F'!J35 -> 0
A32: 3.1.90.01.00 - Aposentadorias do RPPS, Reserva Remunerada e Reformas dos Militares
A33: 3.1.90.03.00 - Pensões do RPPS e do Militar
A34: 3.1.90.04.00 - Contratação por Tempo Determinado | H34: 2386.96 | I34: 2386.96
A35: 3.1.90.05.00 - Outros Benefícios Previdenciários do Servidor ou do Militar
A36: 3.1.90.07.00 - Contribuição a Entidades Fechadas de Previdência
A37: 3.1.90.08.00 - Outros Benefícios Assistenciais do Servidor ou do Militar | H37: 13073.77 | I37: 13073.77
A38: 3.1.90.11.00 - Vencimentos e Vantagens Fixas - Pessoal Civil | C38: 200 | D38: 200 | E38: 200 | H38: 91521.88 | I38: 91521.88
A39: 3.1.90.12.00 - Vencimentos e Vantagens Fixas - Pessoal Militar
A40: 3.1.90.13.00 - Obrigações Patronais | B40: =+'DCA-Anexo I-F'!B42+'DCA-Anexo I-F'!B43+'DCA-Anexo I-F'!B41+'DCA-Anexo I-F'!B44 -> 0 | C40: =+'DCA-Anexo I-F'!C42+'DCA-Anexo I-F'!C43+'DCA-Anexo I-F'!C41+'DCA-Anexo I-F'!C44 -> 0 | D40: =+'DCA-Anexo I-F'!D42+'DCA-Anexo I-F'!D43+'DCA-Anexo I-F'!D41+'DCA-Anexo I-F'!D44 -> 0 | E40: =+'DCA-Anexo I-F'!E42+'DCA-Anexo I-F'!E43+'DCA-Anexo I-F'!E41+'DCA-Anexo I-F'!E44 -> 0 | F40: =+'DCA-Anexo I-F'!F42+'DCA-Anexo I-F'!F43+'DCA-Anexo I-F'!F41+'DCA-Anexo I-F'!F44 -> 0 | G40: =+'DCA-Anexo I-F'!G42+'DCA-Anexo I-F'!G43+'DCA-Anexo I-F'!G41+'DCA-Anexo I-F'!G44 -> 0 | H40: =+'DCA-Anexo I-F'!H42+'DCA-Anexo I-F'!H43+'DCA-Anexo I-F'!H41+'DCA-Anexo I-F'!H44 -> 29008.75 | I40: =+'DCA-Anexo I-F'!I42+'DCA-Anexo I-F'!I43+'DCA-Anexo I-F'!I41+'DCA-Anexo I-F'!I44 -> 29008.75 | J40: =+'DCA-Anexo I-F'!J42+'DCA-Anexo I-F'!J43+'DCA-Anexo I-F'!J41+'DCA-Anexo I-F'!J44 -> 0
A41: 3.1.90.13.01 - FGTS | H41: 737.15 | I41: 737.15
A42: 3.1.90.13.02 - Contribuições Previdenciárias - INSS | H42: 28271.6 | I42: 28271.6
A43: 3.1.90.13.08 - Plano de Seg. Soc. do Servidor - Pessoal Ativo
...

Sheet DCA-Anexo I-G
A2: QDCC
A3: BALANÇO ANUAL (DCA)
A4: VERSÃO: v7
A5: VIGÊNCIA: 03/01/2019
A7: Ente: 4313425 - Novo Machado/RS
A8: Poder: E - Executivo
A9: Instituição: 9993 - Prefeitura Municipal de Novo Machado - RS
A10: Exercício: 2018
A11: Periodicidade: ANUAL
A12: Período: Período único (anual)
A14: Grupo: Balanço Orçamentário - Despesas por Função - Sub Quadro - Execução dos Restos a Pagar
A15: Quadro: Despesas por Função
A16: Rótulo: Total Geral da Despesa por Função
A17: Despesas por Função | B17: Execução da Despesa
B18: Restos a Pagar Não Processados Inscritos em Exercícios Anteriores | C18: Restos a Pagar Não Processados Inscritos em 31 de Dezembro do Exercício Anterior | D18: Restos a Pagar Não Processados Liquidados | E18: Restos a Pagar Não Processados Pagos | F18: Restos a Pagar Não Processados Cancelados | G18: Restos a Pagar Processados Inscritos em Exercícios Anteriores | H18: Restos a Pagar Processados Inscritos em 31 de Dezembro do Exercício Anterior | I18: Restos a Pagar Processados Pagos | J18: Restos a Pagar Processados Cancelados
A19: Despesas Exceto Intraorçamentárias | B19: =+'DCA-Anexo I-G'!B20+'DCA-Anexo I-G'!B25+'DCA-Anexo I-G'!B30+'DCA-Anexo I-G'!B35+'DCA-Anexo I-G'!B48+'DCA-Anexo I-G'!B54+'DCA-Anexo I-G'!B60+'DCA-Anexo I-G'!B65+'DCA-Anexo I-G'!B72+'DCA-Anexo I-G'!B79+'DCA-Anexo I-G'!B88+'DCA-Anexo I-G'!B95+'DCA-Anexo I-G'!B106+'DCA-Anexo I-G'!B111+'DCA-Anexo I-G'!B117+'DCA-Anexo I-G'!B123+'DCA-Anexo I-G'!B128+'DCA-Anexo I-G'!B133+'DCA-Anexo I-G'!B141+'DCA-Anexo I-G'!B147+'DCA-Anexo I-G'!B155+'DCA-Anexo I-G'!B160+'DCA-Anexo I-G'!B168+'DCA-Anexo I-G'!B176+'DCA-Anexo I-G'!B181+'DCA-Anexo I-G'!B188+'DCA-Anexo I-G'!B196+'DCA-Anexo I-G'!B202 -> 76246.54 | C19: =+'DCA-Anexo I-G'!C20+'DCA-Anexo I-G'!C25+'DCA-Anexo I-G'!C30+'DCA-Anexo I-G'!C35+'DCA-Anexo I-G'!C48+'DCA-Anexo I-G'!C54+'DCA-Anexo I-G'!C60+'DCA-Anexo I-G'!C65+'DCA-Anexo I-G'!C72+'DCA-Anexo I-G'!C79+'DCA-Anexo I-G'!C88+'DCA-Anexo I-G'!C95+'DCA-Anexo I-G'!C106+'DCA-Anexo I-G'!C111+'DCA-Anexo I-G'!C117+'DCA-Anexo I-G'!C123+'DCA-Anexo I-G'!C128+'DCA-Anexo I-G'!C133+'DCA-Anexo I-G'!C141+'DCA-Anexo I-G'!C147+'DCA-Anexo I-G'!C155+'DCA-Anexo I-G'!C160+'DCA-Anexo I-G'!C168+'DCA-Anexo I-G'!C176+'DCA-Anexo I-G'!C181+'DCA-Anexo I-G'!C188+'DCA-Anexo I-G'!C196+'DCA-Anexo I-G'!C202 -> 249728.06 | D19: =+'DCA-Anexo I-G'!D20+'DCA-Anexo I-G'!D25+'DCA-Anexo I-G'!D30+'DCA-Anexo I-G'!D35+'DCA-Anexo I-G'!D48+'DCA-Anexo I-G'!D54+'DCA-Anexo I-G'!D60+'DCA-Anexo I-G'!D65+'DCA-Anexo I-G'!D72+'DCA-Anexo I-G'!D79+'DCA-Anexo I-G'!D88+'DCA-Anexo I-G'!D95+'DCA-Anexo I-G'!D106+'DCA-Anexo I-G'!D111+'DCA-Anexo I-G'!D117+'DCA-Anexo I-G'!D123+'DCA-Anexo I-G'!D128+'DCA-Anexo I-G'!D133+'DCA-Anexo I-G'!D141+'DCA-Anexo I-G'!D147+'DCA-Anexo I-G'!D155+'DCA-Anexo I-G'!D160+'DCA-Anexo I-G'!D168+'DCA-Anexo I-G'!D176+'DCA-Anexo I-G'!D181+'DCA-Anexo I-G'!D188+'DCA-Anexo I-G'!D196+'DCA-Anexo I-G'!D202 -> 243645.71 | E19: =+'DCA-Anexo I-G'!E20+'DCA-Anexo I-G'!E25+'DCA-Anexo I-G'!E30+'DCA-Anexo I-G'!E35+'DCA-Anexo I-G'!E48+'DCA-Anexo I-G'!E54+'DCA-Anexo I-G'!E60+'DCA-Anexo I-G'!E65+'DCA-Anexo I-G'!E72+'DCA-Anexo I-G'!E79+'DCA-Anexo I-G'!E88+'DCA-Anexo I-G'!E95+'DCA-Anexo I-G'!E106+'DCA-Anexo I-G'!E111+'DCA-Anexo I-G'!E117+'DCA-Anexo I-G'!E123+'DCA-Anexo I-G'!E128+'DCA-Anexo I-G'!E133+'DCA-Anexo I-G'!E141+'DCA-Anexo I-G'!E147+'DCA-Anexo I-G'!E155+'DCA-Anexo I-G'!E160+'DCA-Anexo I-G'!E168+'DCA-Anexo I-G'!E176+'DCA-Anexo I-G'!E181+'DCA-Anexo I-G'!E188+'DCA-Anexo I-G'!E196+'DCA-Anexo I-G'!E202 -> 243645.71 | F19: =+'DCA-Anexo I-G'!F20+'DCA-Anexo I-G'!F25+'DCA-Anexo I-G'!F30+'DCA-Anexo I-G'!F35+'DCA-Anexo I-G'!F48+'DCA-Anexo I-G'!F54+'DCA-Anexo I-G'!F60+'DCA-Anexo I-G'!F65+'DCA-Anexo I-G'!F72+'DCA-Anexo I-G'!F79+'DCA-Anexo I-G'!F88+'DCA-Anexo I-G'!F95+'DCA-Anexo I-G'!F106+'DCA-Anexo I-G'!F111+'DCA-Anexo I-G'!F117+'DCA-Anexo I-G'!F123+'DCA-Anexo I-G'!F128+'DCA-Anexo I-G'!F133+'DCA-Anexo I-G'!F141+'DCA-Anexo I-G'!F147+'DCA-Anexo I-G'!F155+'DCA-Anexo I-G'!F160+'DCA-Anexo I-G'!F168+'DCA-Anexo I-G'!F176+'DCA-Anexo I-G'!F181+'DCA-Anexo I-G'!F188+'DCA-Anexo I-G'!F196+'DCA-Anexo I-G'!F202 -> 38870.86 | G19: =+'DCA-Anexo I-G'!G20+'DCA-Anexo I-G'!G25+'DCA-Anexo I-G'!G30+'DCA-Anexo I-G'!G35+'DCA-Anexo I-G'!G48+'DCA-Anexo I-G'!G54+'DCA-Anexo I-G'!G60+'DCA-Anexo I-G'!G65+'DCA-Anexo I-G'!G72+'DCA-Anexo I-G'!G79+'DCA-Anexo I-G'!G88+'DCA-Anexo I-G'!G95+'DCA-Anexo I-G'!G106+'DCA-Anexo I-G'!G111+'DCA-Anexo I-G'!G117+'DCA-Anexo I-G'!G123+'DCA-Anexo I-G'!G128+'DCA-Anexo I-G'!G133+'DCA-Anexo I-G'!G141+'DCA-Anexo I-G'!G147+'DCA-Anexo I-G'!G155+'DCA-Anexo I-G'!G160+'DCA-Anexo I-G'!G168+'DCA-Anexo I-G'!G176+'DCA-Anexo I-G'!G181+'DCA-Anexo I-G'!G188+'DCA-Anexo I-G'!G196+'DCA-Anexo I-G'!G202 -> 49688.11 | H19: =+'DCA-Anexo I-G'!H20+'DCA-Anexo I-G'!H25+'DCA-Anexo I-G'!H30+'DCA-Anexo I-G'!H35+'DCA-Anexo I-G'!H48+'DCA-Anexo I-G'!H54+'DCA-Anexo I-G'!H60+'DCA-Anexo I-G'!H65+'DCA-Anexo I-G'!H72+'DCA-Anexo I-G'!H79+'DCA-Anexo I-G'!H88+'DCA-Anexo I-G'!H95+'DCA-Anexo I-G'!H106+'DCA-Anexo I-G'!H111+'DCA-Anexo I-G'!H117+'DCA-Anexo I-G'!H123+'DCA-Anexo I-G'!H128+'DCA-Anexo I-G'!H133+'DCA-Anexo I-G'!H141+'DCA-Anexo I-G'!H147+'DCA-Anexo I-G'!H155+'DCA-Anexo I-G'!H160+'DCA-Anexo I-G'!H168+'DCA-Anexo I-G'!H176+'DCA-Anexo I-G'!H181+'DCA-Anexo I-G'!H188+'DCA-Anexo I-G'!H196+'DCA-Anexo I-G'!H202 -> 359216.5 | I19: =+'DCA-Anexo I-G'!I20+'DCA-Anexo I-G'!I25+'DCA-Anexo I-G'!I30+'DCA-Anexo I-G'!I35+'DCA-Anexo I-G'!I48+'DCA-Anexo I-G'!I54+'DCA-Anexo I-G'!I60+'DCA-Anexo I-G'!I65+'DCA-Anexo I-G'!I72+'DCA-Anexo I-G'!I79+'DCA-Anexo I-G'!I88+'DCA-Anexo I-G'!I95+'DCA-Anexo I-G'!I106+'DCA-Anexo I-G'!I111+'DCA-Anexo I-G'!I117+'DCA-Anexo I-G'!I123+'DCA-Anexo I-G'!I128+'DCA-Anexo I-G'!I133+'DCA-Anexo I-G'!I141+'DCA-Anexo I-G'!I147+'DCA-Anexo I-G'!I155+'DCA-Anexo I-G'!I160+'DCA-Anexo I-G'!I168+'DCA-Anexo I-G'!I176+'DCA-Anexo I-G'!I181+'DCA-Anexo I-G'!I188+'DCA-Anexo I-G'!I196+'DCA-Anexo I-G'!I202 -> 407663.24 | J19: =+'DCA-Anexo I-G'!J20+'DCA-Anexo I-G'!J25+'DCA-Anexo I-G'!J30+'DCA-Anexo I-G'!J35+'DCA-Anexo I-G'!J48+'DCA-Anexo I-G'!J54+'DCA-Anexo I-G'!J60+'DCA-Anexo I-G'!J65+'DCA-Anexo I-G'!J72+'DCA-Anexo I-G'!J79+'DCA-Anexo I-G'!J88+'DCA-Anexo I-G'!J95+'DCA-Anexo I-G'!J106+'DCA-Anexo I-G'!J111+'DCA-Anexo I-G'!J117+'DCA-Anexo I-G'!J123+'DCA-Anexo I-G'!J128+'DCA-Anexo I-G'!J133+'DCA-Anexo I-G'!J141+'DCA-Anexo I-G'!J147+'DCA-Anexo I-G'!J155+'DCA-Anexo I-G'!J160+'DCA-Anexo I-G'!J168+'DCA-Anexo I-G'!J176+'DCA-Anexo I-G'!J181+'DCA-Anexo I-G'!J188+'DCA-Anexo I-G'!J196+'DCA-Anexo I-G'!J202 -> 1241.37
A20: 01 - Legislativa | B20: =+'DCA-Anexo I-G'!B21+'DCA-Anexo I-G'!B22+'DCA-Anexo I-G'!B24+'DCA-Anexo I-G'!B23 -> 0 | C20: =+'DCA-Anexo I-G'!C21+'DCA-Anexo I-G'!C22+'DCA-Anexo I-G'!C24+'DCA-Anexo I-G'!C23 -> 0 | D20: =+'DCA-Anexo I-G'!D21+'DCA-Anexo I-G'!D22+'DCA-Anexo I-G'!D24+'DCA-Anexo I-G'!D23 -> 0 | E20: =+'DCA-Anexo I-G'!E21+'DCA-Anexo I-G'!E22+'DCA-Anexo I-G'!E24+'DCA-Anexo I-G'!E23 -> 0 | F20: =+'DCA-Anexo I-G'!F21+'DCA-Anexo I-G'!F22+'DCA-Anexo I-G'!F24+'DCA-Anexo I-G'!F23 -> 0 | G20: =+'DCA-Anexo I-G'!G21+'DCA-Anexo I-G'!G22+'DCA-Anexo I-G'!G24+'DCA-Anexo I-G'!G23 -> 0 | H20: =+'DCA-Anexo I-G'!H21+'DCA-Anexo I-G'!H22+'DCA-Anexo I-G'!H24+'DCA-Anexo I-G'!H23 -> 6327.19 | I20: =+'DCA-Anexo I-G'!I21+'DCA-Anexo I-G'!I22+'DCA-Anexo I-G'!I24+'DCA-Anexo I-G'!I23 -> 6327.19 | J20: =+'DCA-Anexo I-G'!J21+'DCA-Anexo I-G'!J22+'DCA-Anexo I-G'!J24+'DCA-Anexo I-G'!J23 -> 0
A21: 01.031 - Ação Legislativa | H21: 6327.19 | I21: 6327.19
A22: 01.032 - Controle Externo
A23: 01.122 - Administração Geral
A24: FU01 - Demais Subfunções
A25: 02 - Judiciária | B25: =+'DCA-Anexo I-G'!B26+'DCA-Anexo I-G'!B27+'DCA-Anexo I-G'!B29+'DCA-Anexo I-G'!B28 -> 0 | C25: =+'DCA-Anexo I-G'!C26+'DCA-Anexo I-G'!C27+'DCA-Anexo I-G'!C29+'DCA-Anexo I-G'!C28 -> 0 | D25: =+'DCA-Anexo I-G'!D26+'DCA-Anexo I-G'!D27+'DCA-Anexo I-G'!D29+'DCA-Anexo I-G'!D28 -> 0 | E25: =+'DCA-Anexo I-G'!E26+'DCA-Anexo I-G'!E27+'DCA-Anexo I-G'!E29+'DCA-Anexo I-G'!E28 -> 0 | F25: =+'DCA-Anexo I-G'!F26+'DCA-Anexo I-G'!F27+'DCA-Anexo I-G'!F29+'DCA-Anexo I-G'!F28 -> 0 | G25: =+'DCA-Anexo I-G'!G26+'DCA-Anexo I-G'!G27+'DCA-Anexo I-G'!G29+'DCA-Anexo I-G'!G28 -> 0 | H25: =+'DCA-Anexo I-G'!H26+'DCA-Anexo I-G'!H27+'DCA-Anexo I-G'!H29+'DCA-Anexo I-G'!H28 -> 0 | I25: =+'DCA-Anexo I-G'!I26+'DCA-Anexo I-G'!I27+'DCA-Anexo I-G'!I29+'DCA-Anexo I-G'!I28 -> 0 | J25: =+'DCA-Anexo I-G'!J26+'DCA-Anexo I-G'!J27+'DCA-Anexo I-G'!J29+'DCA-Anexo I-G'!J28 -> 0
A26: 02.061 - Ação Judiciária
A27: 02.062 - Defesa do Interesse Público no Processo Judiciário
A28: 02.122 - Administração Geral
A29: FU02 - Demais Subfunções
A30: 03 - Essencial à Justiça | B30: =+'DCA-Anexo I-G'!B31+'DCA-Anexo I-G'!B32+'DCA-Anexo I-G'!B34+'DCA-Anexo I-G'!B33 -> 0 | C30: =+'DCA-Anexo I-G'!C31+'DCA-Anexo I-G'!C32+'DCA-Anexo I-G'!C34+'DCA-Anexo I-G'!C33 -> 0 | D30: =+'DCA-Anexo I-G'!D31+'DCA-Anexo I-G'!D32+'DCA-Anexo I-G'!D34+'DCA-Anexo I-G'!D33 -> 0 | E30: =+'DCA-Anexo I-G'!E31+'DCA-Anexo I-G'!E32+'DCA-Anexo I-G'!E34+'DCA-Anexo I-G'!E33 -> 0 | F30: =+'DCA-Anexo I-G'!F31+'DCA-Anexo I-G'!F32+'DCA-Anexo I-G'!F34+'DCA-Anexo I-G'!F33 -> 0 | G30: =+'DCA-Anexo I-G'!G31+'DCA-Anexo I-G'!G32+'DCA-Anexo I-G'!G34+'DCA-Anexo I-G'!G33 -> 0 | H30: =+'DCA-Anexo I-G'!H31+'DCA-Anexo I-G'!H32+'DCA-Anexo I-G'!H34+'DCA-Anexo I-G'!H33 -> 0 | I30: =+'DCA-Anexo I-G'!I31+'DCA-Anexo I-G'!I32+'DCA-Anexo I-G'!I34+'DCA-Anexo I-G'!I33 -> 0 | J30: =+'DCA-Anexo I-G'!J31+'DCA-Anexo I-G'!J32+'DCA-Anexo I-G'!J34+'DCA-Anexo I-G'!J33 -> 0
A31: 03.091 - Defesa da Ordem Jurídica
A32: 03.092 - Representação Judicial e Extrajudicial
A33: 03.122 - Administração Geral
A34: FU03 - Demais Subfunções
A35: 04 - Administração | B35: =+'DCA-Anexo I-G'!B36+'DCA-Anexo I-G'!B37+'DCA-Anexo I-G'!B38+'DCA-Anexo I-G'!B39+'DCA-Anexo I-G'!B40+'DCA-Anexo I-G'!B41+'DCA-Anexo I-G'!B42+'DCA-Anexo I-G'!B43+'DCA-Anexo I-G'!B44+'DCA-Anexo I-G'!B45+'DCA-Anexo I-G'!B46+'DCA-Anexo I-G'!B47 -> 2140 | C35: =+'DCA-Anexo I-G'!C36+'DCA-Anexo I-G'!C37+'DCA-Anexo I-G'!C38+'DCA-Anexo I-G'!C39+'DCA-Anexo I-G'!C40+'DCA-Anexo I-G'!C41+'DCA-Anexo I-G'!C42+'DCA-Anexo I-G'!C43+'DCA-Anexo I-G'!C44+'DCA-Anexo I-G'!C45+'DCA-Anexo I-G'!C46+'DCA-Anexo I-G'!C47 -> 12141.54 | D35: =+'DCA-Anexo I-G'!D36+'DCA-Anexo I-G'!D37+'DCA-Anexo I-G'!D38+'DCA-Anexo I-G'!D39+'DCA-Anexo I-G'!D40+'DCA-Anexo I-G'!D41+'DCA-Anexo I-G'!D42+'DCA-Anexo I-G'!D43+'DCA-Anexo I-G'!D44+'DCA-Anexo I-G'!D45+'DCA-Anexo I-G'!D46+'DCA-Anexo I-G'!D47 -> 5282.29 | E35: =+'DCA-Anexo I-G'!E36+'DCA-Anexo I-G'!E37+'DCA-Anexo I-G'!E38+'DCA-Anexo I-G'!E39+'DCA-Anexo I-G'!E40+'DCA-Anexo I-G'!E41+'DCA-Anexo I-G'!E42+'DCA-Anexo I-G'!E43+'DCA-Anexo I-G'!E44+'DCA-Anexo I-G'!E45+'DCA-Anexo I-G'!E46+'DCA-Anexo I-G'!E47 -> 5282.29 | F35: =+'DCA-Anexo I-G'!F36+'DCA-Anexo I-G'!F37+'DCA-Anexo I-G'!F38+'DCA-Anexo I-G'!F39+'DCA-Anexo I-G'!F40+'DCA-Anexo I-G'!F41+'DCA-Anexo I-G'!F42+'DCA-Anexo I-G'!F43+'DCA-Anexo I-G'!F44+'DCA-Anexo I-G'!F45+'DCA-Anexo I-G'!F46+'DCA-Anexo I-G'!F47 -> 6859.25 | G35: =+'DCA-Anexo I-G'!G36+'DCA-Anexo I-G'!G37+'DCA-Anexo I-G'!G38+'DCA-Anexo I-G'!G39+'DCA-Anexo I-G'!G40+'DCA-Anexo I-G'!G41+'DCA-Anexo I-G'!G42+'DCA-Anexo I-G'!G43+'DCA-Anexo I-G'!G44+'DCA-Anexo I-G'!G45+'DCA-Anexo I-G'!G46+'DCA-Anexo I-G'!G47 -> 54.75 | H35: =+'DCA-Anexo I-G'!H36+'DCA-Anexo I-G'!H37+'DCA-Anexo I-G'!H38+'DCA-Anexo I-G'!H39+'DCA-Anexo I-G'!H40+'DCA-Anexo I-G'!H41+'DCA-Anexo I-G'!H42+'DCA-Anexo I-G'!H43+'DCA-Anexo I-G'!H44+'DCA-Anexo I-G'!H45+'DCA-Anexo I-G'!H46+'DCA-Anexo I-G'!H47 -> 67671.7 | I35: =+'DCA-Anexo I-G'!I36+'DCA-Anexo I-G'!I37+'DCA-Anexo I-G'!I38+'DCA-Anexo I-G'!I39+'DCA-Anexo I-G'!I40+'DCA-Anexo I-G'!I41+'DCA-Anexo I-G'!I42+'DCA-Anexo I-G'!I43+'DCA-Anexo I-G'!I44+'DCA-Anexo I-G'!I45+'DCA-Anexo I-G'!I46+'DCA-Anexo I-G'!I47 -> 67726.45 | J35: =+'DCA-Anexo I-G'!J36+'DCA-Anexo I-G'!J37+'DCA-Anexo I-G'!J38+'DCA-Anexo I-G'!J39+'DCA-Anexo I-G'!J40+'DCA-Anexo I-G'!J41+'DCA-Anexo I-G'!J42+'DCA-Anexo I-G'!J43+'DCA-Anexo I-G'!J44+'DCA-Anexo I-G'!J45+'DCA-Anexo I-G'!J46+'DCA-Anexo I-G'!J47 -> 0
A36: 04.121 - Planejamento e Orçamento | C36: 292.85 | F36: 292.85 | H36: 9056.17 | I36: 9056.17
A37: 04.122 - Administração Geral | B37: 2140 | C37: 11848.69 | D37: 5282.29 | E37: 5282.29 | F37: 6566.4 | G37: 54.75 | H37: 53676.14 | I37: 53730.89
A38: 04.123 - Administração Financeira | H38: 3234.3 | I38: 3234.3
A39: 04.124 - Controle Interno
A40: 04.125 - Normatização e Fiscalização
A41: 04.126 - Tecnologia da Informação
A42: 04.127 - Ordenamento Territorial
A43: 04.128 - Formação de Recursos Humanos
...

Sheet DCA-Anexo I-HI
A2: QDCC
A3: BALANÇO ANUAL (DCA)
A4: VERSÃO: v7
A5: VIGÊNCIA: 03/01/2019
A7: Ente: 4313425 - Novo Machado/RS
A8: Poder: E - Executivo
A9: Instituição: 9993 - Prefeitura Municipal de Novo Machado - RS
A10: Exercício: 2018
A11: Periodicidade: ANUAL
A12: Período: Período único (anual)
A14: Grupo: Demonstrativo das Variações Patrimoniais Quantitativas e Resultado Patrimonial do Período
A15: Quadro: Demonstrativo das Variações Patrimoniais e Resultado Patrimonial
A16: Rótulo: Padrão
A17: Demonstrativo das Variações Patrimoniais e Resultado Patrimonial | B17: Valores
B18: 31/12/2018
A19: Variação Patrimonial Diminutiva
A20: Variação Patrimonial Diminutiva
A21: 3.0.0.0.0.00.00 - Variação Patrimonial Diminutiva | B21: =+'DCA-Anexo I-HI'!B22+'DCA-Anexo I-HI'!B204+'DCA-Anexo I-HI'!B254+'DCA-Anexo I-HI'!B342+'DCA-Anexo I-HI'!B117+'DCA-Anexo I-HI'!B67+'DCA-Anexo I-HI'!B302+'DCA-Anexo I-HI'!B139+'DCA-Anexo I-HI'!B323 -> 19548901
A22: 3.1.0.0.0.00.00 - Pessoal e Encargos | B22: =+'DCA-Anexo I-HI'!B23+'DCA-Anexo I-HI'!B53+'DCA-Anexo I-HI'!B30+'DCA-Anexo I-HI'!B60 -> 9305637.1
A23: 3.1.1.0.0.00.00 - Remuneração a Pessoal | B23: =+'DCA-Anexo I-HI'!B24+'DCA-Anexo I-HI'!B26+'DCA-Anexo I-HI'!B28 -> 7494613
A24: 3.1.1.1.0.00.00 - Remuneração a Pessoal Ativo Civil – Abrangidos pelo RPPS | B24: =+'DCA-Anexo I-HI'!B25 -> 7494613
A25: 3.1.1.1.1.00.00 - Remuneração a Pessoal Ativo Civil – Abrangidos pelo RPPS - Consolidação | B25: 7494613
A26: 3.1.1.2.0.00.00 - Remuneração a Pessoal Ativo Civil - Abrangidos pelo RGPS | B26: =+'DCA-Anexo I-HI'!B27 -> 0
A27: 3.1.1.2.1.00.00 - Remuneração a Pessoal Ativo Civil - Abrangidos pelo RGPS - Consolidação
A28: 3.1.1.3.0.00.00 - Remuneração a Pessoal Ativo Militar - Abrangidos pelo RPPS | B28: =+'DCA-Anexo I-HI'!B29 -> 0
A29: 3.1.1.3.1.00.00 - Remuneração a Pessoal Ativo Militar - Abrangidos pelo RPPS - Consolidação
A30: 3.1.2.0.0.00.00 - Encargos Patronais | B30: =+'DCA-Anexo I-HI'!B31+'DCA-Anexo I-HI'!B47+'DCA-Anexo I-HI'!B43+'DCA-Anexo I-HI'!B45+'DCA-Anexo I-HI'!B37+'DCA-Anexo I-HI'!B41 -> 1811024.1
A31: 3.1.2.1.0.00.00 - Encargos Patronais - RPPS | B31: =+'DCA-Anexo I-HI'!B33+'DCA-Anexo I-HI'!B32+'DCA-Anexo I-HI'!B35+'DCA-Anexo I-HI'!B34+'DCA-Anexo I-HI'!B36 -> 1811024.1
A32: 3.1.2.1.1.00.00 - Encargos Patronais - RPPS - Consolidação | B32: 1811024.1
A33: 3.1.2.1.2.00.00 - Encargos Patronais - RPPS - Intra OFSS
A34: 3.1.2.1.3.00.00 - Encargos Patronais - RPPS - Inter OFSS - União
A35: 3.1.2.1.4.00.00 - Encargos Patronais - RPPS - Inter OFSS - Estado
A36: 3.1.2.1.5.00.00 - Encargos Patronais - RPPS - Inter OFSS - Município
A37: 3.1.2.2.0.00.00 - Encargos Patronais - RGPS | B37: =+'DCA-Anexo I-HI'!B38+'DCA-Anexo I-HI'!B39+'DCA-Anexo I-HI'!B40 -> 0
A38: 3.1.2.2.1.00.00 - Encargos Patronais - RGPS - Consolidação
A39: 3.1.2.2.2.00.00 - Encargos Patronais - RGPS - Intra OFSS
A40: 3.1.2.2.3.00.00 - Encargos Patronais - RGPS - Inter OFSS - União
A41: 3.1.2.3.0.00.00 - Encargos Patronais - FGTS | B41: =+'DCA-Anexo I-HI'!B42 -> 0
A42: 3.1.2.3.1.00.00 - Encargos Patronais - FGTS - Consolidação
A43: 3.1.2.4.0.00.00 - Contribuições Sociais Gerais | B43: =+'DCA-Anexo I-HI'!B44 -> 0
...
